BEGIN:VCALENDAR
VERSION:2.0
PRODID:-//Banksia Park Primary School - ECPv6.15.20//NONSGML v1.0//EN
CALSCALE:GREGORIAN
METHOD:PUBLISH
X-ORIGINAL-URL:https://banksiaparkps.wa.edu.au
X-WR-CALDESC:Events for Banksia Park Primary School
REFRESH-INTERVAL;VALUE=DURATION:PT1H
X-Robots-Tag:noindex
X-PUBLISHED-TTL:PT1H
BEGIN:VTIMEZONE
TZID:Australia/Perth
BEGIN:STANDARD
TZOFFSETFROM:+0800
TZOFFSETTO:+0800
TZNAME:AWST
DTSTART:20250101T000000
END:STANDARD
END:VTIMEZONE
BEGIN:VEVENT
DTSTART;VALUE=DATE:20260506
DTEND;VALUE=DATE:20260507
DTSTAMP:20260421T193742
CREATED:20260421T044454Z
LAST-MODIFIED:20260421T044515Z
UID:3389-1778025600-1778111999@banksiaparkps.wa.edu.au
SUMMARY:Edu Dance - Year 1
DESCRIPTION:
URL:https://banksiaparkps.wa.edu.au/calendar/assembly-area-11/
CATEGORIES:School Events
END:VEVENT
BEGIN:VEVENT
DTSTART;VALUE=DATE:20260507
DTEND;VALUE=DATE:20260508
DTSTAMP:20260421T193742
CREATED:20260421T044538Z
LAST-MODIFIED:20260421T044545Z
UID:3392-1778112000-1778198399@banksiaparkps.wa.edu.au
SUMMARY:Mothers Day Stall
DESCRIPTION:
URL:https://banksiaparkps.wa.edu.au/calendar/mothers-day-stall/
CATEGORIES:School Events
END:VEVENT
BEGIN:VEVENT
DTSTART;VALUE=DATE:20260508
DTEND;VALUE=DATE:20260509
DTSTAMP:20260421T193742
CREATED:20260421T044622Z
LAST-MODIFIED:20260421T044630Z
UID:3394-1778198400-1778284799@banksiaparkps.wa.edu.au
SUMMARY:Edu Dance - PP\, Year 2 - 6
DESCRIPTION:
URL:https://banksiaparkps.wa.edu.au/calendar/edu-dance-pp-year-2-6-2/
CATEGORIES:School Events
END:VEVENT
BEGIN:VEVENT
DTSTART;VALUE=DATE:20260508
DTEND;VALUE=DATE:20260509
DTSTAMP:20260421T193742
CREATED:20260421T045136Z
LAST-MODIFIED:20260421T045136Z
UID:3416-1778198400-1778284799@banksiaparkps.wa.edu.au
SUMMARY:Cricket Carnival
DESCRIPTION:
URL:https://banksiaparkps.wa.edu.au/calendar/cricket-carnival/
CATEGORIES:School Events
END:VEVENT
BEGIN:VEVENT
DTSTART;VALUE=DATE:20260513
DTEND;VALUE=DATE:20260514
DTSTAMP:20260421T193742
CREATED:20260421T044734Z
LAST-MODIFIED:20260421T044734Z
UID:3398-1778630400-1778716799@banksiaparkps.wa.edu.au
SUMMARY:Edu Dance - Year 1
DESCRIPTION:
URL:https://banksiaparkps.wa.edu.au/calendar/edu-dance-year-1-4/
CATEGORIES:School Events
END:VEVENT
BEGIN:VEVENT
DTSTART;VALUE=DATE:20260515
DTEND;VALUE=DATE:20260516
DTSTAMP:20260421T193742
CREATED:20260421T044758Z
LAST-MODIFIED:20260421T044758Z
UID:3400-1778803200-1778889599@banksiaparkps.wa.edu.au
SUMMARY:Edu Dance - PP\, Year 2 - 6
DESCRIPTION:
URL:https://banksiaparkps.wa.edu.au/calendar/edu-dance-pp-year-2-6-3/
CATEGORIES:School Events
END:VEVENT
BEGIN:VEVENT
DTSTART;VALUE=DATE:20260520
DTEND;VALUE=DATE:20260521
DTSTAMP:20260421T193742
CREATED:20260421T044936Z
LAST-MODIFIED:20260421T044936Z
UID:3406-1779235200-1779321599@banksiaparkps.wa.edu.au
SUMMARY:Edu Dance - Year 1
DESCRIPTION:
URL:https://banksiaparkps.wa.edu.au/calendar/edu-dance-year-1-5/
CATEGORIES:School Events
END:VEVENT
BEGIN:VEVENT
DTSTART;TZID=Australia/Perth:20260520T090000
DTEND;TZID=Australia/Perth:20260520T100000
DTSTAMP:20260421T193742
CREATED:20260421T044909Z
LAST-MODIFIED:20260421T044909Z
UID:3404-1779267600-1779271200@banksiaparkps.wa.edu.au
SUMMARY:Assembly - Area 10
DESCRIPTION:
URL:https://banksiaparkps.wa.edu.au/calendar/assembly-area-10/
CATEGORIES:School Events
END:VEVENT
BEGIN:VEVENT
DTSTART;VALUE=DATE:20260522
DTEND;VALUE=DATE:20260523
DTSTAMP:20260421T193742
CREATED:20260421T044954Z
LAST-MODIFIED:20260421T044954Z
UID:3408-1779408000-1779494399@banksiaparkps.wa.edu.au
SUMMARY:Edu Dance - PP\, Year 2 - 6
DESCRIPTION:
URL:https://banksiaparkps.wa.edu.au/calendar/edu-dance-pp-year-2-6-4/
CATEGORIES:School Events
END:VEVENT
BEGIN:VEVENT
DTSTART;VALUE=DATE:20260527
DTEND;VALUE=DATE:20260528
DTSTAMP:20260421T193742
CREATED:20260421T045020Z
LAST-MODIFIED:20260421T045020Z
UID:3410-1779840000-1779926399@banksiaparkps.wa.edu.au
SUMMARY:Edu Dance - Year 1
DESCRIPTION:
URL:https://banksiaparkps.wa.edu.au/calendar/edu-dance-year-1-6/
CATEGORIES:School Events
END:VEVENT
BEGIN:VEVENT
DTSTART;VALUE=DATE:20260528
DTEND;VALUE=DATE:20260529
DTSTAMP:20260421T193742
CREATED:20260421T045052Z
LAST-MODIFIED:20260421T045052Z
UID:3412-1779926400-1780012799@banksiaparkps.wa.edu.au
SUMMARY:Faction Cross Country Carnival
DESCRIPTION:
URL:https://banksiaparkps.wa.edu.au/calendar/faction-cross-country-carnival/
CATEGORIES:School Events
END:VEVENT
BEGIN:VEVENT
DTSTART;VALUE=DATE:20260529
DTEND;VALUE=DATE:20260530
DTSTAMP:20260421T193742
CREATED:20260421T045111Z
LAST-MODIFIED:20260421T045111Z
UID:3414-1780012800-1780099199@banksiaparkps.wa.edu.au
SUMMARY:Edu Dance - PP\, Year 2 - 6
DESCRIPTION:
URL:https://banksiaparkps.wa.edu.au/calendar/edu-dance-pp-year-2-6-5/
CATEGORIES:School Events
END:VEVENT
BEGIN:VEVENT
DTSTART;VALUE=DATE:20260603
DTEND;VALUE=DATE:20260604
DTSTAMP:20260421T193742
CREATED:20260421T045402Z
LAST-MODIFIED:20260421T045402Z
UID:3424-1780444800-1780531199@banksiaparkps.wa.edu.au
SUMMARY:edu Dance - Year 1
DESCRIPTION:
URL:https://banksiaparkps.wa.edu.au/calendar/edu-dance-year-1-7/
CATEGORIES:School Events
END:VEVENT
BEGIN:VEVENT
DTSTART;VALUE=DATE:20260605
DTEND;VALUE=DATE:20260606
DTSTAMP:20260421T193742
CREATED:20260421T045434Z
LAST-MODIFIED:20260421T045442Z
UID:3426-1780617600-1780703999@banksiaparkps.wa.edu.au
SUMMARY:PP - Farmyard on Wheels Incursion
DESCRIPTION:
URL:https://banksiaparkps.wa.edu.au/calendar/pp-farmyard-on-wheels-incursion/
CATEGORIES:School Events
END:VEVENT
BEGIN:VEVENT
DTSTART;VALUE=DATE:20260605
DTEND;VALUE=DATE:20260606
DTSTAMP:20260421T193742
CREATED:20260421T045458Z
LAST-MODIFIED:20260421T045512Z
UID:3428-1780617600-1780703999@banksiaparkps.wa.edu.au
SUMMARY:Edu Dance - PP\, Year 2 - 6
DESCRIPTION:
URL:https://banksiaparkps.wa.edu.au/calendar/edu-dance-pp-year-2-6-6/
CATEGORIES:School Events
END:VEVENT
BEGIN:VEVENT
DTSTART;VALUE=DATE:20260610
DTEND;VALUE=DATE:20260611
DTSTAMP:20260421T193742
CREATED:20260421T045650Z
LAST-MODIFIED:20260421T045650Z
UID:3434-1781049600-1781135999@banksiaparkps.wa.edu.au
SUMMARY:Edu Dance - Year 1
DESCRIPTION:
URL:https://banksiaparkps.wa.edu.au/calendar/edu-dance-year-1-8/
CATEGORIES:School Events
END:VEVENT
BEGIN:VEVENT
DTSTART;TZID=Australia/Perth:20260610T090000
DTEND;TZID=Australia/Perth:20260610T100000
DTSTAMP:20260421T193742
CREATED:20260421T045618Z
LAST-MODIFIED:20260421T045618Z
UID:3432-1781082000-1781085600@banksiaparkps.wa.edu.au
SUMMARY:Assembly - Area 7
DESCRIPTION:
URL:https://banksiaparkps.wa.edu.au/calendar/assembly-area-7/
CATEGORIES:School Events
END:VEVENT
BEGIN:VEVENT
DTSTART;VALUE=DATE:20260612
DTEND;VALUE=DATE:20260613
DTSTAMP:20260421T193742
CREATED:20260421T045708Z
LAST-MODIFIED:20260421T045708Z
UID:3436-1781222400-1781308799@banksiaparkps.wa.edu.au
SUMMARY:Edu Dance - PP\, Year 2 - 6
DESCRIPTION:
URL:https://banksiaparkps.wa.edu.au/calendar/edu-dance-pp-year-2-6-7/
CATEGORIES:School Events
END:VEVENT
BEGIN:VEVENT
DTSTART;TZID=Australia/Perth:20260612T140000
DTEND;TZID=Australia/Perth:20260612T193000
DTSTAMP:20260421T193742
CREATED:20260421T045744Z
LAST-MODIFIED:20260421T045744Z
UID:3438-1781272800-1781292600@banksiaparkps.wa.edu.au
SUMMARY:School Disco
DESCRIPTION:
URL:https://banksiaparkps.wa.edu.au/calendar/school-disco/
CATEGORIES:School Events
END:VEVENT
BEGIN:VEVENT
DTSTART;VALUE=DATE:20260617
DTEND;VALUE=DATE:20260618
DTSTAMP:20260421T193742
CREATED:20260421T045901Z
LAST-MODIFIED:20260421T045901Z
UID:3444-1781654400-1781740799@banksiaparkps.wa.edu.au
SUMMARY:Edu Dance - Year 1
DESCRIPTION:
URL:https://banksiaparkps.wa.edu.au/calendar/edu-dance-year-1-9/
CATEGORIES:School Events
END:VEVENT
BEGIN:VEVENT
DTSTART;TZID=Australia/Perth:20260619T140000
DTEND;TZID=Australia/Perth:20260619T150000
DTSTAMP:20260421T193742
CREATED:20260421T045944Z
LAST-MODIFIED:20260421T045944Z
UID:3446-1781877600-1781881200@banksiaparkps.wa.edu.au
SUMMARY:Edu Dance Concert - 2:20pm
DESCRIPTION:
URL:https://banksiaparkps.wa.edu.au/calendar/edu-dance-concert-220pm/
CATEGORIES:School Events
END:VEVENT
BEGIN:VEVENT
DTSTART;TZID=Australia/Perth:20260624T090000
DTEND;TZID=Australia/Perth:20260624T100000
DTSTAMP:20260421T193742
CREATED:20260421T050346Z
LAST-MODIFIED:20260421T050346Z
UID:3448-1782291600-1782295200@banksiaparkps.wa.edu.au
SUMMARY:Assembly - Area 6
DESCRIPTION:
URL:https://banksiaparkps.wa.edu.au/calendar/assembly-area-6-2/
CATEGORIES:School Events
END:VEVENT
BEGIN:VEVENT
DTSTART;VALUE=DATE:20260630
DTEND;VALUE=DATE:20260701
DTSTAMP:20260421T193742
CREATED:20260421T050426Z
LAST-MODIFIED:20260421T050426Z
UID:3450-1782777600-1782863999@banksiaparkps.wa.edu.au
SUMMARY:winter Carnival - AFL\, Netball\, Soccer
DESCRIPTION:
URL:https://banksiaparkps.wa.edu.au/calendar/winter-carnival-afl-netball-soccer/
CATEGORIES:School Events
END:VEVENT
BEGIN:VEVENT
DTSTART;VALUE=DATE:20260701
DTEND;VALUE=DATE:20260702
DTSTAMP:20260421T193742
CREATED:20260421T050554Z
LAST-MODIFIED:20260421T050554Z
UID:3454-1782864000-1782950399@banksiaparkps.wa.edu.au
SUMMARY:NAIDOC Celebration Day
DESCRIPTION:
URL:https://banksiaparkps.wa.edu.au/calendar/naidoc-celebration-day/
CATEGORIES:School Events
END:VEVENT
END:VCALENDAR