BEGIN:VCALENDAR
VERSION:2.0
PRODID:-//Banksia Park Primary School - ECPv6.15.20//NONSGML v1.0//EN
CALSCALE:GREGORIAN
METHOD:PUBLISH
X-WR-CALNAME:Banksia Park Primary School
X-ORIGINAL-URL:https://banksiaparkps.wa.edu.au
X-WR-CALDESC:Events for Banksia Park Primary School
REFRESH-INTERVAL;VALUE=DURATION:PT1H
X-Robots-Tag:noindex
X-PUBLISHED-TTL:PT1H
BEGIN:VTIMEZONE
TZID:Australia/Perth
BEGIN:STANDARD
TZOFFSETFROM:+0800
TZOFFSETTO:+0800
TZNAME:AWST
DTSTART:20240101T000000
END:STANDARD
END:VTIMEZONE
BEGIN:VEVENT
DTSTART;VALUE=DATE:20251111
DTEND;VALUE=DATE:20251112
DTSTAMP:20260421T205437
CREATED:20250923T034908Z
LAST-MODIFIED:20250923T041829Z
UID:3009-1762819200-1762905599@banksiaparkps.wa.edu.au
SUMMARY:Remembrance Day
DESCRIPTION:
URL:https://banksiaparkps.wa.edu.au/calendar/remembrance-day-2/
CATEGORIES:School Events
END:VEVENT
BEGIN:VEVENT
DTSTART;VALUE=DATE:20251203
DTEND;VALUE=DATE:20251204
DTSTAMP:20260421T205437
CREATED:20250923T035147Z
LAST-MODIFIED:20250923T041622Z
UID:3015-1764720000-1764806399@banksiaparkps.wa.edu.au
SUMMARY:Assembly - IMMS Instrumental Assembly
DESCRIPTION:
URL:https://banksiaparkps.wa.edu.au/calendar/assembly-imms-instrumental-assembly/
CATEGORIES:School Events
END:VEVENT
BEGIN:VEVENT
DTSTART;VALUE=DATE:20251212
DTEND;VALUE=DATE:20251213
DTSTAMP:20260421T205437
CREATED:20250923T035238Z
LAST-MODIFIED:20250923T041604Z
UID:3017-1765497600-1765583999@banksiaparkps.wa.edu.au
SUMMARY:Free Dress Day
DESCRIPTION:
URL:https://banksiaparkps.wa.edu.au/calendar/free-dress-day/
CATEGORIES:School Events
END:VEVENT
BEGIN:VEVENT
DTSTART;VALUE=DATE:20251215
DTEND;VALUE=DATE:20251216
DTSTAMP:20260421T205437
CREATED:20250923T035320Z
LAST-MODIFIED:20250923T041548Z
UID:3019-1765756800-1765843199@banksiaparkps.wa.edu.au
SUMMARY:Graduation Dinner
DESCRIPTION:
URL:https://banksiaparkps.wa.edu.au/calendar/graduation-dinner/
CATEGORIES:School Events
END:VEVENT
BEGIN:VEVENT
DTSTART;VALUE=DATE:20251216
DTEND;VALUE=DATE:20251217
DTSTAMP:20260421T205437
CREATED:20250923T035359Z
LAST-MODIFIED:20250923T040145Z
UID:3021-1765843200-1765929599@banksiaparkps.wa.edu.au
SUMMARY:Awards Assembly - Class Awards
DESCRIPTION:
URL:https://banksiaparkps.wa.edu.au/calendar/awards-assembly-class-awards/
CATEGORIES:School Events
END:VEVENT
BEGIN:VEVENT
DTSTART;VALUE=DATE:20251218
DTEND;VALUE=DATE:20251219
DTSTAMP:20260421T205437
CREATED:20250923T035439Z
LAST-MODIFIED:20250923T042823Z
UID:3023-1766016000-1766102399@banksiaparkps.wa.edu.au
SUMMARY:Graduation Assembly
DESCRIPTION:
URL:https://banksiaparkps.wa.edu.au/calendar/graduation-assembly/
CATEGORIES:School Events
END:VEVENT
BEGIN:VEVENT
DTSTART;VALUE=DATE:20251218
DTEND;VALUE=DATE:20251219
DTSTAMP:20260421T205437
CREATED:20250923T035826Z
LAST-MODIFIED:20250923T040125Z
UID:3027-1766016000-1766102399@banksiaparkps.wa.edu.au
SUMMARY:Last Day of Term
DESCRIPTION:
URL:https://banksiaparkps.wa.edu.au/calendar/last-day-of-term/
CATEGORIES:School Events
END:VEVENT
BEGIN:VEVENT
DTSTART;VALUE=DATE:20251219
DTEND;VALUE=DATE:20251220
DTSTAMP:20260421T205437
CREATED:20250923T035518Z
LAST-MODIFIED:20250923T040047Z
UID:3025-1766102400-1766188799@banksiaparkps.wa.edu.au
SUMMARY:Pupil Free Day
DESCRIPTION:
URL:https://banksiaparkps.wa.edu.au/calendar/pupil-free-day-2/
CATEGORIES:School Events
END:VEVENT
BEGIN:VEVENT
DTSTART;VALUE=DATE:20260211
DTEND;VALUE=DATE:20260214
DTSTAMP:20260421T205437
CREATED:20260211T050321Z
LAST-MODIFIED:20260211T050354Z
UID:3248-1770768000-1771027199@banksiaparkps.wa.edu.au
SUMMARY:Year 6 Camp
DESCRIPTION:
URL:https://banksiaparkps.wa.edu.au/calendar/year-6-camp/
CATEGORIES:School Events
END:VEVENT
BEGIN:VEVENT
DTSTART;TZID=Australia/Perth:20260218T080000
DTEND;TZID=Australia/Perth:20260218T170000
DTSTAMP:20260421T205437
CREATED:20260211T050452Z
LAST-MODIFIED:20260211T050452Z
UID:3250-1771401600-1771434000@banksiaparkps.wa.edu.au
SUMMARY:Parent Information Sessions
DESCRIPTION:
URL:https://banksiaparkps.wa.edu.au/calendar/parent-information-sessions/
CATEGORIES:School Events
END:VEVENT
BEGIN:VEVENT
DTSTART;TZID=Australia/Perth:20260311T080000
DTEND;TZID=Australia/Perth:20260320T170000
DTSTAMP:20260421T205437
CREATED:20260211T050717Z
LAST-MODIFIED:20260211T050717Z
UID:3256-1773216000-1774026000@banksiaparkps.wa.edu.au
SUMMARY:NAPLAN
DESCRIPTION:
URL:https://banksiaparkps.wa.edu.au/calendar/naplan-2/
CATEGORIES:School Events
END:VEVENT
BEGIN:VEVENT
DTSTART;VALUE=DATE:20260318
DTEND;VALUE=DATE:20260319
DTSTAMP:20260421T205437
CREATED:20260211T050753Z
LAST-MODIFIED:20260211T050753Z
UID:3258-1773792000-1773878399@banksiaparkps.wa.edu.au
SUMMARY:Swimming Carnival
DESCRIPTION:
URL:https://banksiaparkps.wa.edu.au/calendar/swimming-carnival/
CATEGORIES:School Events
END:VEVENT
BEGIN:VEVENT
DTSTART;VALUE=DATE:20260325
DTEND;VALUE=DATE:20260326
DTSTAMP:20260421T205437
CREATED:20260211T050823Z
LAST-MODIFIED:20260211T050823Z
UID:3260-1774396800-1774483199@banksiaparkps.wa.edu.au
SUMMARY:Harmony Day Assembly
DESCRIPTION:
URL:https://banksiaparkps.wa.edu.au/calendar/harmony-day-assembly-2/
CATEGORIES:School Events
END:VEVENT
BEGIN:VEVENT
DTSTART;VALUE=DATE:20260422
DTEND;VALUE=DATE:20260423
DTSTAMP:20260421T205437
CREATED:20260421T043054Z
LAST-MODIFIED:20260421T043054Z
UID:3360-1776816000-1776902399@banksiaparkps.wa.edu.au
SUMMARY:Edu Dance - Year 1
DESCRIPTION:
URL:https://banksiaparkps.wa.edu.au/calendar/edu-dance-year-1/
CATEGORIES:School Events
END:VEVENT
BEGIN:VEVENT
DTSTART;VALUE=DATE:20260424
DTEND;VALUE=DATE:20260425
DTSTAMP:20260421T205437
CREATED:20260421T043322Z
LAST-MODIFIED:20260421T043322Z
UID:3362-1776988800-1777075199@banksiaparkps.wa.edu.au
SUMMARY:Edu Dance - Year PP\, 2-6
DESCRIPTION:
URL:https://banksiaparkps.wa.edu.au/calendar/edu-dance-year-pp-2-6/
CATEGORIES:School Events
END:VEVENT
BEGIN:VEVENT
DTSTART;VALUE=DATE:20260427
DTEND;VALUE=DATE:20260428
DTSTAMP:20260421T205437
CREATED:20260421T043414Z
LAST-MODIFIED:20260421T043414Z
UID:3364-1777248000-1777334399@banksiaparkps.wa.edu.au
SUMMARY:ANZAC Day Public Holiday
DESCRIPTION:
URL:https://banksiaparkps.wa.edu.au/calendar/anzac-day-public-holiday/
CATEGORIES:School Events
END:VEVENT
BEGIN:VEVENT
DTSTART;TZID=Australia/Perth:20260428T140000
DTEND;TZID=Australia/Perth:20260428T150000
DTSTAMP:20260421T205437
CREATED:20260421T043636Z
LAST-MODIFIED:20260421T043636Z
UID:3366-1777384800-1777388400@banksiaparkps.wa.edu.au
SUMMARY:Year 6 Incursion
DESCRIPTION:
URL:https://banksiaparkps.wa.edu.au/calendar/year-6-incursion/
CATEGORIES:School Events
END:VEVENT
BEGIN:VEVENT
DTSTART;VALUE=DATE:20260429
DTEND;VALUE=DATE:20260430
DTSTAMP:20260421T205437
CREATED:20260421T043858Z
LAST-MODIFIED:20260421T043858Z
UID:3375-1777420800-1777507199@banksiaparkps.wa.edu.au
SUMMARY:Edu Dance - Year 1
DESCRIPTION:
URL:https://banksiaparkps.wa.edu.au/calendar/edu-dance-year-1-3/
CATEGORIES:School Events
END:VEVENT
BEGIN:VEVENT
DTSTART;TZID=Australia/Perth:20260429T090000
DTEND;TZID=Australia/Perth:20260429T100000
DTSTAMP:20260421T205437
CREATED:20260421T043743Z
LAST-MODIFIED:20260421T043743Z
UID:3371-1777453200-1777456800@banksiaparkps.wa.edu.au
SUMMARY:ANZAC Day assembly - 9:00am
DESCRIPTION:
URL:https://banksiaparkps.wa.edu.au/calendar/anzac-day-assembly-900am/
CATEGORIES:School Events
END:VEVENT
BEGIN:VEVENT
DTSTART;VALUE=DATE:20260505
DTEND;VALUE=DATE:20260506
DTSTAMP:20260421T205437
CREATED:20260421T044303Z
LAST-MODIFIED:20260421T044345Z
UID:3384-1777939200-1778025599@banksiaparkps.wa.edu.au
SUMMARY:Mothers Day Stall - Bilbies
DESCRIPTION:
URL:https://banksiaparkps.wa.edu.au/calendar/board-meeting-4/
CATEGORIES:Board Meetings,School Events
END:VEVENT
BEGIN:VEVENT
DTSTART;VALUE=DATE:20260505
DTEND;VALUE=DATE:20260506
DTSTAMP:20260421T205437
CREATED:20260421T044228Z
LAST-MODIFIED:20260421T044228Z
UID:3382-1777939200-1778025599@banksiaparkps.wa.edu.au
SUMMARY:Year 6 Zoo Excursion
DESCRIPTION:
URL:https://banksiaparkps.wa.edu.au/calendar/year-6-zoo-excursion/
CATEGORIES:School Events
END:VEVENT
BEGIN:VEVENT
DTSTART;VALUE=DATE:20260506
DTEND;VALUE=DATE:20260507
DTSTAMP:20260421T205437
CREATED:20260421T044454Z
LAST-MODIFIED:20260421T044515Z
UID:3389-1778025600-1778111999@banksiaparkps.wa.edu.au
SUMMARY:Edu Dance - Year 1
DESCRIPTION:
URL:https://banksiaparkps.wa.edu.au/calendar/assembly-area-11/
CATEGORIES:School Events
END:VEVENT
BEGIN:VEVENT
DTSTART;VALUE=DATE:20260507
DTEND;VALUE=DATE:20260508
DTSTAMP:20260421T205437
CREATED:20260421T044538Z
LAST-MODIFIED:20260421T044545Z
UID:3392-1778112000-1778198399@banksiaparkps.wa.edu.au
SUMMARY:Mothers Day Stall
DESCRIPTION:
URL:https://banksiaparkps.wa.edu.au/calendar/mothers-day-stall/
CATEGORIES:School Events
END:VEVENT
BEGIN:VEVENT
DTSTART;VALUE=DATE:20260508
DTEND;VALUE=DATE:20260509
DTSTAMP:20260421T205437
CREATED:20260421T044622Z
LAST-MODIFIED:20260421T044630Z
UID:3394-1778198400-1778284799@banksiaparkps.wa.edu.au
SUMMARY:Edu Dance - PP\, Year 2 - 6
DESCRIPTION:
URL:https://banksiaparkps.wa.edu.au/calendar/edu-dance-pp-year-2-6-2/
CATEGORIES:School Events
END:VEVENT
BEGIN:VEVENT
DTSTART;VALUE=DATE:20260508
DTEND;VALUE=DATE:20260509
DTSTAMP:20260421T205437
CREATED:20260421T045136Z
LAST-MODIFIED:20260421T045136Z
UID:3416-1778198400-1778284799@banksiaparkps.wa.edu.au
SUMMARY:Cricket Carnival
DESCRIPTION:
URL:https://banksiaparkps.wa.edu.au/calendar/cricket-carnival/
CATEGORIES:School Events
END:VEVENT
BEGIN:VEVENT
DTSTART;VALUE=DATE:20260513
DTEND;VALUE=DATE:20260514
DTSTAMP:20260421T205437
CREATED:20260421T044734Z
LAST-MODIFIED:20260421T044734Z
UID:3398-1778630400-1778716799@banksiaparkps.wa.edu.au
SUMMARY:Edu Dance - Year 1
DESCRIPTION:
URL:https://banksiaparkps.wa.edu.au/calendar/edu-dance-year-1-4/
CATEGORIES:School Events
END:VEVENT
BEGIN:VEVENT
DTSTART;VALUE=DATE:20260515
DTEND;VALUE=DATE:20260516
DTSTAMP:20260421T205437
CREATED:20260421T044758Z
LAST-MODIFIED:20260421T044758Z
UID:3400-1778803200-1778889599@banksiaparkps.wa.edu.au
SUMMARY:Edu Dance - PP\, Year 2 - 6
DESCRIPTION:
URL:https://banksiaparkps.wa.edu.au/calendar/edu-dance-pp-year-2-6-3/
CATEGORIES:School Events
END:VEVENT
BEGIN:VEVENT
DTSTART;VALUE=DATE:20260520
DTEND;VALUE=DATE:20260521
DTSTAMP:20260421T205437
CREATED:20260421T044936Z
LAST-MODIFIED:20260421T044936Z
UID:3406-1779235200-1779321599@banksiaparkps.wa.edu.au
SUMMARY:Edu Dance - Year 1
DESCRIPTION:
URL:https://banksiaparkps.wa.edu.au/calendar/edu-dance-year-1-5/
CATEGORIES:School Events
END:VEVENT
BEGIN:VEVENT
DTSTART;TZID=Australia/Perth:20260520T090000
DTEND;TZID=Australia/Perth:20260520T100000
DTSTAMP:20260421T205437
CREATED:20260421T044909Z
LAST-MODIFIED:20260421T044909Z
UID:3404-1779267600-1779271200@banksiaparkps.wa.edu.au
SUMMARY:Assembly - Area 10
DESCRIPTION:
URL:https://banksiaparkps.wa.edu.au/calendar/assembly-area-10/
CATEGORIES:School Events
END:VEVENT
BEGIN:VEVENT
DTSTART;VALUE=DATE:20260522
DTEND;VALUE=DATE:20260523
DTSTAMP:20260421T205437
CREATED:20260421T044954Z
LAST-MODIFIED:20260421T044954Z
UID:3408-1779408000-1779494399@banksiaparkps.wa.edu.au
SUMMARY:Edu Dance - PP\, Year 2 - 6
DESCRIPTION:
URL:https://banksiaparkps.wa.edu.au/calendar/edu-dance-pp-year-2-6-4/
CATEGORIES:School Events
END:VEVENT
END:VCALENDAR